BEGIN:VCALENDAR
VERSION:2.0
PRODID:-//wp-events-plugin.com//7.2.3.1//EN
TZID:America/Denver
X-WR-TIMEZONE:America/Denver
BEGIN:VEVENT
UID:1806@westcusterlibrary.org
DTSTART;TZID=America/Denver:20250207T110000
DTEND;TZID=America/Denver:20250207T130000
DTSTAMP:20241212T221812Z
URL:https://www.westcusterlibrary.org/events/free-movie-event-harold-and-t
 he-purple-crayon/
SUMMARY:FREE MOVIE EVENT: HAROLD and the PURPLE CRAYON
DESCRIPTION:Join us for a Free Movie Event in the Library Community Room\n\
 nSnacks and drinks will be provided!
ATTACH;FMTTYPE=image/jpeg:https://www.westcusterlibrary.org/wp-content/upl
 oads/2024/12/February-movie.png
CATEGORIES:Adults,Age 9-14,Family,High School Students,Infant to Pre-K
 (ages 0-5),Kids (ages 5-10),Teens (ages 11-18)
LOCATION:West Custer County Library Community Room\, 209 Main St\, Westclif
 fe\, CO\, United States
GEO:38.136419;-105.467999
X-APPLE-STRUCTURED-LOCATION;VALUE=URI;X-ADDRESS=209 Main St\, Westcliffe\, 
 CO\, United States;X-APPLE-RADIUS=100;X-TITLE=West Custer County Library C
 ommunity Room:geo:38.136419,-105.467999
END:VEVENT
BEGIN:VTIMEZONE
TZID:America/Denver
X-LIC-LOCATION:America/Denver
BEGIN:STANDARD
DTSTART:20241103T010000
TZOFFSETFROM:-0600
TZOFFSETTO:-0700
TZNAME:MST
END:STANDARD
END:VTIMEZONE
END:VCALENDAR