BEGIN:VCALENDAR
VERSION:2.0
PRODID:-//wp-events-plugin.com//7.2.3.1//EN
TZID:America/Denver
X-WR-TIMEZONE:America/Denver
BEGIN:VEVENT
UID:2318@westcusterlibrary.org
DTSTART;TZID=America/Denver:20251104T090000
DTEND;TZID=America/Denver:20251104T110000
DTSTAMP:20250909T154100Z
URL:https://www.westcusterlibrary.org/events/free-coffe-donuts-with-the-sh
 eriff/
SUMMARY:FREE COFFE & DONUTS WITH THE SHERIFF
DESCRIPTION:Drop by the library to visit with Sheriff Rich Smith and enjoy 
 free coffee and donuts!  The Sheriff will be available to answer your que
 stions.  This event open to the public.
ATTACH;FMTTYPE=image/jpeg:https://www.westcusterlibrary.org/wp-content/upl
 oads/2025/09/f98ceef4-047c-4a6c-9329-60cf8b869ac6.png
CATEGORIES:Adults
LOCATION:West Custer County Library Community Room\, 209 Main St\, Westclif
 fe\, CO\, United States
GEO:38.136419;-105.467999
X-APPLE-STRUCTURED-LOCATION;VALUE=URI;X-ADDRESS=209 Main St\, Westcliffe\, 
 CO\, United States;X-APPLE-RADIUS=100;X-TITLE=West Custer County Library C
 ommunity Room:geo:38.136419,-105.467999
END:VEVENT
BEGIN:VTIMEZONE
TZID:America/Denver
X-LIC-LOCATION:America/Denver
BEGIN:STANDARD
DTSTART:20251102T010000
TZOFFSETFROM:-0600
TZOFFSETTO:-0700
TZNAME:MST
END:STANDARD
END:VTIMEZONE
END:VCALENDAR