BEGIN:VCALENDAR
VERSION:2.0
PRODID:-//wp-events-plugin.com//7.2.3.1//EN
TZID:America/Denver
X-WR-TIMEZONE:America/Denver
BEGIN:VEVENT
UID:1992@westcusterlibrary.org
DTSTART;TZID=America/Denver:20250508T130000
DTEND;TZID=America/Denver:20250508T140000
DTSTAMP:20250418T135029Z
URL:https://www.westcusterlibrary.org/events/free-basic-computer-class-for
 -adults/
SUMMARY:FREE BASIC COMPUTER CLASS FOR ADULTS
DESCRIPTION:The West Custer County Library in partnership with the Educatio
 n Legacy Fund is offering a Free Basic Computer Class.  Susan Kempin of t
 he Education Legacy Fund will teach: \nIntro to Email - Beyond the Basics
 \n\n 	Working with attachments - how to download and how to send\n 	Reply 
 all and forwarding\n 	CC &amp\; BCC\n 	Spam/Junk Emails\n 	Organizing and 
 deleting\n 	Searching for Messages\n\n\nBasic Search\n\n 	Basic Search Eng
 ines - What are they?\n 	Performing a basic search\n 	Identifying ads in s
 earch results\n\n\nRegistration is Recommended.\n
ATTACH;FMTTYPE=image/jpeg:https://www.westcusterlibrary.org/wp-content/upl
 oads/2025/03/f7cfddf3-c3b2-4bdf-abde-084935781d5a.png
CATEGORIES:Adults
LOCATION:West Custer County Library Community Room\, 209 Main St\, Westclif
 fe\, CO\, United States
GEO:38.136419;-105.467999
X-APPLE-STRUCTURED-LOCATION;VALUE=URI;X-ADDRESS=209 Main St\, Westcliffe\, 
 CO\, United States;X-APPLE-RADIUS=100;X-TITLE=West Custer County Library C
 ommunity Room:geo:38.136419,-105.467999
END:VEVENT
BEGIN:VTIMEZONE
TZID:America/Denver
X-LIC-LOCATION:America/Denver
BEGIN:DAYLIGHT
DTSTART:20250309T030000
TZOFFSETFROM:-0700
TZOFFSETTO:-0600
TZNAME:MDT
END:DAYLIGHT
END:VTIMEZONE
END:VCALENDAR