BEGIN:VCALENDAR
VERSION:2.0
PRODID:-//wp-events-plugin.com//7.2.3.1//EN
TZID:America/Denver
X-WR-TIMEZONE:America/Denver
BEGIN:VEVENT
UID:2665@westcusterlibrary.org
DTSTART;TZID=America/Denver:20260120T100000
DTEND;TZID=America/Denver:20260120T113000
DTSTAMP:20251220T002254Z
URL:https://www.westcusterlibrary.org/events/free-art-class-for-veterans/
SUMMARY:FREE ART CLASS FOR VETERANS
DESCRIPTION:The West Custer County Library\, SAG and Mt. Carmel are offerin
 g a free Watercolor art class for Veterans and their Adult Family members.
   Local artist Julie Hutslar will teach the class.  Beginners are welcom
 e to sign up.  All supplies will be provided for the attendees at no cost
 .  Please register for the class or call 719-783-9138 for assistance with
  registration.  The class will be held at the 3rd St. Gallery\, 59000 N. 
 Highway 69\, Westcliffe\, 1st floor.  Handicap access is available.
ATTACH;FMTTYPE=image/jpeg:https://www.westcusterlibrary.org/wp-content/upl
 oads/2025/11/586c765d-12db-4c68-b28d-275711ff63be.png
CATEGORIES:Veterans
END:VEVENT
BEGIN:VTIMEZONE
TZID:America/Denver
X-LIC-LOCATION:America/Denver
BEGIN:STANDARD
DTSTART:20251102T010000
TZOFFSETFROM:-0600
TZOFFSETTO:-0700
TZNAME:MST
END:STANDARD
END:VTIMEZONE
END:VCALENDAR