BEGIN:VCALENDAR
VERSION:2.0
PRODID:-//wp-events-plugin.com//7.2.3.1//EN
TZID:America/Denver
X-WR-TIMEZONE:America/Denver
BEGIN:VEVENT
UID:2232@westcusterlibrary.org
DTSTART;TZID=America/Denver:20250917T130000
DTEND;TZID=America/Denver:20250917T143000
DTSTAMP:20250909T153630Z
URL:https://www.westcusterlibrary.org/events/free-acrylics-art-class-for-v
 eterans-their-spouses/
SUMMARY:FREE ACRYLICS ART CLASS FOR VETERANS & THEIR SPOUSES
DESCRIPTION:Thanks to a generous grant from Mt. Carmel\, the West Custer Co
 unty Library\, and the Sangre Art Guild are partnering with Mt. Carmel to 
 offer a free acrylics art class for veterans and their spouses. The class 
 will be taught by local artist Danica Lee.  Registration is required.  T
 he class will be held at the 3rd Street Gallery\, 59000 N. Highway 69\, We
 stcliffe. The classroom is located on the first floor with handicap acces
 s.
ATTACH;FMTTYPE=image/jpeg:https://www.westcusterlibrary.org/wp-content/upl
 oads/2025/08/d502f789-af6e-4a34-9af8-cb8bf996fd69.png
CATEGORIES:Veterans
END:VEVENT
BEGIN:VTIMEZONE
TZID:America/Denver
X-LIC-LOCATION:America/Denver
BEGIN:DAYLIGHT
DTSTART:20250309T030000
TZOFFSETFROM:-0700
TZOFFSETTO:-0600
TZNAME:MDT
END:DAYLIGHT
END:VTIMEZONE
END:VCALENDAR