BEGIN:VCALENDAR
VERSION:2.0
PRODID:-//wp-events-plugin.com//7.2.3.1//EN
TZID:America/Denver
X-WR-TIMEZONE:America/Denver
BEGIN:VEVENT
UID:2869@westcusterlibrary.org
DTSTART;TZID=America/Denver:20260407T100000
DTEND;TZID=America/Denver:20260407T113000
DTSTAMP:20260330T173758Z
URL:https://www.westcusterlibrary.org/events/empower-yourself-nutrition-se
 ries-part-3-gut-health-nutrition-lifestyle/
SUMMARY:Empower Yourself Nutrition Series Part 3 Gut Health\, Nutrition & L
 ifestyle
DESCRIPTION:The Nutrition Series continues at the library.  These sessions
  are sponsored by the Wellness Council.  Empower yourself with knowledge 
 regarding gut health.  Learn how nutrition and lifestyle can impact your 
 gut health.  Lindsay and Michelle of Mountain View Nutrition will share t
 heir expertise.
ATTACH;FMTTYPE=image/jpeg:https://www.westcusterlibrary.org/wp-content/upl
 oads/2026/03/370c5abe-4368-4468-8c67-dcb64e28877a.png
CATEGORIES:Adults
LOCATION:West Custer County Library Community Room\, 209 Main St\, Westclif
 fe\, CO\, United States
GEO:38.136419;-105.467999
X-APPLE-STRUCTURED-LOCATION;VALUE=URI;X-ADDRESS=209 Main St\, Westcliffe\, 
 CO\, United States;X-APPLE-RADIUS=100;X-TITLE=West Custer County Library C
 ommunity Room:geo:38.136419,-105.467999
END:VEVENT
BEGIN:VTIMEZONE
TZID:America/Denver
X-LIC-LOCATION:America/Denver
BEGIN:DAYLIGHT
DTSTART:20260308T030000
TZOFFSETFROM:-0700
TZOFFSETTO:-0600
TZNAME:MDT
END:DAYLIGHT
END:VTIMEZONE
END:VCALENDAR