BEGIN:VCALENDAR
VERSION:2.0
PRODID:-//wp-events-plugin.com//7.2.3.1//EN
TZID:America/Denver
X-WR-TIMEZONE:America/Denver
BEGIN:VEVENT
UID:2069@westcusterlibrary.org
DTSTART;TZID=America/Denver:20250422T113000
DTEND;TZID=America/Denver:20250422T123000
DTSTAMP:20250414T230842Z
URL:https://www.westcusterlibrary.org/events/earth-day-event-a-presentatio
 n-on-chemicals-in-regards-to-farmland-rangeland-and-grasslands/
SUMMARY:Earth Day Event A Presentation On Chemicals in Regards to "Farmlan
 d\, Rangeland\, And Grasslands"
DESCRIPTION:Come and enjoy Earth Day Events at the library.  The Custer Co
 unty Extension Office and the West Custer County Library present Brittany 
 Pierce.  Brittany will share her expertise and give a talk" On Chemicals 
 in Regards to "Farmland\, Rangeland\, And Grasslands." 
ATTACH;FMTTYPE=image/jpeg:https://www.westcusterlibrary.org/wp-content/upl
 oads/2025/04/ebfb6c81-a612-4c73-a7ec-03427b75c290.png
CATEGORIES:Adults
LOCATION:West Custer County Library Community Room\, 209 Main St\, Westclif
 fe\, CO\, United States
GEO:38.136419;-105.467999
X-APPLE-STRUCTURED-LOCATION;VALUE=URI;X-ADDRESS=209 Main St\, Westcliffe\, 
 CO\, United States;X-APPLE-RADIUS=100;X-TITLE=West Custer County Library C
 ommunity Room:geo:38.136419,-105.467999
END:VEVENT
BEGIN:VTIMEZONE
TZID:America/Denver
X-LIC-LOCATION:America/Denver
BEGIN:DAYLIGHT
DTSTART:20250309T030000
TZOFFSETFROM:-0700
TZOFFSETTO:-0600
TZNAME:MDT
END:DAYLIGHT
END:VTIMEZONE
END:VCALENDAR