BEGIN:VCALENDAR
VERSION:2.0
PRODID:-//wp-events-plugin.com//7.2.3.1//EN
TZID:America/Denver
X-WR-TIMEZONE:America/Denver
BEGIN:VEVENT
UID:488@westcusterlibrary.org
DTSTART;TZID=America/Denver:20231230T100000
DTEND;TZID=America/Denver:20231230T150000
DTSTAMP:20230607T144819Z
URL:https://www.westcusterlibrary.org/events/dungeons-dragons-2023-12-30/
SUMMARY:Dungeons & Dragons
DESCRIPTION:Join us to learn and play Dungeons &amp\; Dragons. Beginners an
 d experts are welcome.
ATTACH;FMTTYPE=image/jpeg:https://www.westcusterlibrary.org/wp-content/upl
 oads/2022/08/DD.jpg
CATEGORIES:Adults,Teens (ages 11-18)
LOCATION:West Custer County Library Community Room\, 209 Main St\, Westclif
 fe\, CO\, United States
GEO:38.136419;-105.467999
X-APPLE-STRUCTURED-LOCATION;VALUE=URI;X-ADDRESS=209 Main St\, Westcliffe\, 
 CO\, United States;X-APPLE-RADIUS=100;X-TITLE=West Custer County Library C
 ommunity Room:geo:38.136419,-105.467999
END:VEVENT
BEGIN:VTIMEZONE
TZID:America/Denver
X-LIC-LOCATION:America/Denver
BEGIN:STANDARD
DTSTART:20231105T010000
TZOFFSETFROM:-0600
TZOFFSETTO:-0700
TZNAME:MST
END:STANDARD
END:VTIMEZONE
END:VCALENDAR