BEGIN:VCALENDAR
VERSION:2.0
PRODID:-//wp-events-plugin.com//7.2.3.1//EN
TZID:America/Denver
X-WR-TIMEZONE:America/Denver
BEGIN:VEVENT
UID:1838@westcusterlibrary.org
DTSTART;TZID=America/Denver:20250222T100000
DTEND;TZID=America/Denver:20250222T150000
DTSTAMP:20250207T190054Z
URL:https://www.westcusterlibrary.org/events/dungeons-and-dragons-2025-02-
 22/
SUMMARY:Dungeons and Dragons @ CUSTER COUNTY SCHOOL MPR
DESCRIPTION:Join the Dungeons and Dragons for a fun\, creative\, and imagin
 ative experience. Take gaming to a whole new level with this interactive R
 PG game. Create your character and get transported to a new world\, or dim
 ension\, and see if you survive. \n\n
ATTACH;FMTTYPE=image/jpeg:https://www.westcusterlibrary.org/wp-content/upl
 oads/2025/01/dungeonsanddragons.png
CATEGORIES:Teens (ages 11-18)
END:VEVENT
BEGIN:VTIMEZONE
TZID:America/Denver
X-LIC-LOCATION:America/Denver
BEGIN:STANDARD
DTSTART:20241103T010000
TZOFFSETFROM:-0600
TZOFFSETTO:-0700
TZNAME:MST
END:STANDARD
END:VTIMEZONE
END:VCALENDAR