BEGIN:VCALENDAR
VERSION:2.0
PRODID:-//wp-events-plugin.com//7.2.3.1//EN
TZID:America/Denver
X-WR-TIMEZONE:America/Denver
BEGIN:VEVENT
UID:2181@westcusterlibrary.org
DTSTART;TZID=America/Denver:20251028T100000
DTEND;TZID=America/Denver:20251028T110000
DTSTAMP:20251015T170844Z
URL:https://www.westcusterlibrary.org/events/dementia-conversations-alzhei
 merss-association-caregiver-education-and-training-you-can-trust/
SUMMARY:DEMENTIA CONVERSATIONS Alzheimers's Association  Caregiver Educatio
 n and Training You Can Trust
DESCRIPTION:This course gives caregivers tips and strategies for having dif
 ficult but important conversations.\nWhen it's time to talk to someone abo
 ut dementia how do you have those difficult conversations?\n\n*Going to th
 e doctor for a diagnosis\n*When to stop driving\n*Making legal &amp\; fina
 ncial plans.\n\nThis courses aims to help caregivers feel more prepared to
  handle the challenges that come with caring for someone living with demen
 tia.  Please scan the QR code on the flyer to register for the class with
  the Alzheimer's Association or call 1-800-272-3900 to register.\n\n&nbsp\
 ;\n
ATTACH;FMTTYPE=image/jpeg:https://www.westcusterlibrary.org/wp-content/upl
 oads/2025/08/34b8f78c-eeca-4181-8704-0edd62d1b2f3.png
CATEGORIES:Adults
LOCATION:West Custer County Library Community Room\, 209 Main St\, Westclif
 fe\, CO\, United States
GEO:38.136419;-105.467999
X-APPLE-STRUCTURED-LOCATION;VALUE=URI;X-ADDRESS=209 Main St\, Westcliffe\, 
 CO\, United States;X-APPLE-RADIUS=100;X-TITLE=West Custer County Library C
 ommunity Room:geo:38.136419,-105.467999
END:VEVENT
BEGIN:VTIMEZONE
TZID:America/Denver
X-LIC-LOCATION:America/Denver
BEGIN:DAYLIGHT
DTSTART:20250309T030000
TZOFFSETFROM:-0700
TZOFFSETTO:-0600
TZNAME:MDT
END:DAYLIGHT
END:VTIMEZONE
END:VCALENDAR