BEGIN:VCALENDAR
VERSION:2.0
PRODID:-//wp-events-plugin.com//7.2.3.1//EN
TZID:America/Denver
X-WR-TIMEZONE:America/Denver
BEGIN:VEVENT
UID:2178@westcusterlibrary.org
DTSTART;TZID=America/Denver:20250805T100000
DTEND;TZID=America/Denver:20250805T110000
DTSTAMP:20250728T171052Z
URL:https://www.westcusterlibrary.org/events/custer-county-wellness-counci
 l-event-learn-how-to-be-a-part-of-the-2025-health-and-wellness-fair/
SUMMARY:CUSTER COUNTY WELLNESS COUNCIL EVENT:  Learn How to Be a Part of th
 e 2025 Health and Wellness Fair
DESCRIPTION:Do you or your company work in the health industry in Custer Co
 unty? Join us for this event to learn about the non-profit Custer County W
 ellness Council\, and be a part of the 2025 health and wellness fair to be
  held on Sept 6th.
ATTACH;FMTTYPE=image/jpeg:https://www.westcusterlibrary.org/wp-content/upl
 oads/2025/07/aaab93d0-51ec-4190-9814-e6bb7eb40de0.png
CATEGORIES:Adults
LOCATION:West Custer County Library Community Room\, 209 Main St\, Westclif
 fe\, CO\, United States
GEO:38.136419;-105.467999
X-APPLE-STRUCTURED-LOCATION;VALUE=URI;X-ADDRESS=209 Main St\, Westcliffe\, 
 CO\, United States;X-APPLE-RADIUS=100;X-TITLE=West Custer County Library C
 ommunity Room:geo:38.136419,-105.467999
END:VEVENT
BEGIN:VTIMEZONE
TZID:America/Denver
X-LIC-LOCATION:America/Denver
BEGIN:DAYLIGHT
DTSTART:20250309T030000
TZOFFSETFROM:-0700
TZOFFSETTO:-0600
TZNAME:MDT
END:DAYLIGHT
END:VTIMEZONE
END:VCALENDAR