BEGIN:VCALENDAR
VERSION:2.0
PRODID:-//wp-events-plugin.com//7.2.3.1//EN
TZID:America/Denver
X-WR-TIMEZONE:America/Denver
BEGIN:VEVENT
UID:2138@westcusterlibrary.org
DTSTART;TZID=America/Denver:20250830T170000
DTEND;TZID=America/Denver:20250830T180000
DTSTAMP:20250727T220439Z
URL:https://www.westcusterlibrary.org/events/cowboy-song-swap/
SUMMARY:COWBOY "SONG SWAP"
DESCRIPTION:Enjoy a free event a Cowboy "Song Swap" featuring cowboys: Mark
  Compere\, J.J.Steele\, and Dennis Russel.  Bring the family for some sin
 ging fun!
ATTACH;FMTTYPE=image/jpeg:https://www.westcusterlibrary.org/wp-content/upl
 oads/2025/07/e4c8ebcd-c87f-438a-8fac-5b067d2aa1db.png
CATEGORIES:Family
LOCATION:West Custer County Library Community Room\, 209 Main St\, Westclif
 fe\, CO\, United States
GEO:38.136419;-105.467999
X-APPLE-STRUCTURED-LOCATION;VALUE=URI;X-ADDRESS=209 Main St\, Westcliffe\, 
 CO\, United States;X-APPLE-RADIUS=100;X-TITLE=West Custer County Library C
 ommunity Room:geo:38.136419,-105.467999
END:VEVENT
BEGIN:VTIMEZONE
TZID:America/Denver
X-LIC-LOCATION:America/Denver
BEGIN:DAYLIGHT
DTSTART:20250309T030000
TZOFFSETFROM:-0700
TZOFFSETTO:-0600
TZNAME:MDT
END:DAYLIGHT
END:VTIMEZONE
END:VCALENDAR