BEGIN:VCALENDAR
VERSION:2.0
PRODID:-//wp-events-plugin.com//7.2.3.1//EN
TZID:America/Denver
X-WR-TIMEZONE:America/Denver
BEGIN:VEVENT
UID:1938@westcusterlibrary.org
DTSTART;TZID=America/Denver:20250426T160000
DTEND;TZID=America/Denver:20250426T170000
DTSTAMP:20250220T002323Z
URL:https://www.westcusterlibrary.org/events/cowboy-poetry-special-event-w
 ith-j-j-steele-and-dennis-russell/
SUMMARY:Cowboy Poetry Special Event with J.J. Steele and Dennis Russell
DESCRIPTION:Celebrate Poetry month with local cowboy poet J.J. Steele and h
 is fellow cowboy poet and good friend Dennis Russell.  Enjoy their poems 
 and stories!  This event is free and open to the public.
ATTACH;FMTTYPE=image/jpeg:https://www.westcusterlibrary.org/wp-content/upl
 oads/2025/02/Poetrytalks.png
CATEGORIES:Adults,Family
LOCATION:West Custer County Library Community Room\, 209 Main St\, Westclif
 fe\, CO\, United States
GEO:38.136419;-105.467999
X-APPLE-STRUCTURED-LOCATION;VALUE=URI;X-ADDRESS=209 Main St\, Westcliffe\, 
 CO\, United States;X-APPLE-RADIUS=100;X-TITLE=West Custer County Library C
 ommunity Room:geo:38.136419,-105.467999
END:VEVENT
BEGIN:VTIMEZONE
TZID:America/Denver
X-LIC-LOCATION:America/Denver
BEGIN:DAYLIGHT
DTSTART:20250309T030000
TZOFFSETFROM:-0700
TZOFFSETTO:-0600
TZNAME:MDT
END:DAYLIGHT
END:VTIMEZONE
END:VCALENDAR