BEGIN:VCALENDAR
VERSION:2.0
PRODID:-//wp-events-plugin.com//7.2.3.1//EN
TZID:America/Denver
X-WR-TIMEZONE:America/Denver
BEGIN:VEVENT
UID:2231@westcusterlibrary.org
DTSTART;TZID=America/Denver:20250916T100000
DTEND;TZID=America/Denver:20250916T113000
DTSTAMP:20250819T201727Z
URL:https://www.westcusterlibrary.org/events/computer-event-learn-google-d
 ocs-google-sheets-how-to-store-to-the-google-drive/
SUMMARY:Computer Event Learn: Google Sheets\, & How to Store to the Google 
 Drive
DESCRIPTION:Learn Google Sheets and how to store on Google Drive!  Google 
 Sheets is a free spreadsheet that is perfect for creating budgets or organ
 izing data.  We will learn how to create formulas\, format cells and sort
  your data.  Bring your laptop and cord to the class so that you can foll
 ow along and create your own spreadsheet!
ATTACH;FMTTYPE=image/jpeg:https://www.westcusterlibrary.org/wp-content/upl
 oads/2025/08/952ee632-a059-4951-9838-78d88d514a86.png
CATEGORIES:Adults
LOCATION:West Custer County Library Community Room\, 209 Main St\, Westclif
 fe\, CO\, United States
GEO:38.136419;-105.467999
X-APPLE-STRUCTURED-LOCATION;VALUE=URI;X-ADDRESS=209 Main St\, Westcliffe\, 
 CO\, United States;X-APPLE-RADIUS=100;X-TITLE=West Custer County Library C
 ommunity Room:geo:38.136419,-105.467999
END:VEVENT
BEGIN:VTIMEZONE
TZID:America/Denver
X-LIC-LOCATION:America/Denver
BEGIN:DAYLIGHT
DTSTART:20250309T030000
TZOFFSETFROM:-0700
TZOFFSETTO:-0600
TZNAME:MDT
END:DAYLIGHT
END:VTIMEZONE
END:VCALENDAR