BEGIN:VCALENDAR
VERSION:2.0
PRODID:-//wp-events-plugin.com//7.2.3.1//EN
TZID:America/Denver
X-WR-TIMEZONE:America/Denver
BEGIN:VEVENT
UID:1830@westcusterlibrary.org
DTSTART;TZID=America/Denver:20250408T110000
DTEND;TZID=America/Denver:20250408T120000
DTSTAMP:20250115T184421Z
URL:https://www.westcusterlibrary.org/events/colorado-workforce-services-e
 vent/
SUMMARY:Colorado Workforce Services Event
DESCRIPTION:Looking for a job?  Looking for an employee?  Colorado Workfo
 rce of Canon City offers job applicants and employers free services from t
 he Department of Labor.  They'll help you post job openings to Connecting
  Colorado or aid with financial assistance for internship positions.  The
 y also have free training opportunities.
ATTACH;FMTTYPE=image/jpeg:https://www.westcusterlibrary.org/wp-content/upl
 oads/2025/01/0d0909df-79da-4021-8d06-dee457ff5ef6.png
CATEGORIES:Adults,Teens (ages 11-18),Veterans
LOCATION:West Custer County Library Community Room\, 209 Main St\, Westclif
 fe\, CO\, United States
GEO:38.136419;-105.467999
X-APPLE-STRUCTURED-LOCATION;VALUE=URI;X-ADDRESS=209 Main St\, Westcliffe\, 
 CO\, United States;X-APPLE-RADIUS=100;X-TITLE=West Custer County Library C
 ommunity Room:geo:38.136419,-105.467999
END:VEVENT
BEGIN:VTIMEZONE
TZID:America/Denver
X-LIC-LOCATION:America/Denver
BEGIN:DAYLIGHT
DTSTART:20250309T030000
TZOFFSETFROM:-0700
TZOFFSETTO:-0600
TZNAME:MDT
END:DAYLIGHT
END:VTIMEZONE
END:VCALENDAR