BEGIN:VCALENDAR
VERSION:2.0
PRODID:-//wp-events-plugin.com//7.2.3.1//EN
TZID:America/Denver
X-WR-TIMEZONE:America/Denver
BEGIN:VEVENT
UID:1773@westcusterlibrary.org
DTSTART;TZID=America/Denver:20250107T130000
DTEND;TZID=America/Denver:20250107T140000
DTSTAMP:20250106T210635Z
URL:https://www.westcusterlibrary.org/events/colorado-workforce-services-e
 vent-free/
SUMMARY:POSTPONED Colorado Workforce Services Event FREE
DESCRIPTION:Teens\, Veterans\, and adults looking for a job?  Attend the W
 orkforce Event to discuss your job search with the experts.  Get advice o
 n resumes and interviewing skills.  Whether you are looking for job\, ski
 lls training\, or a summer internship the experts can assist you.\nEmploye
 rs looking to list a job opening or hire a summer intern?  The Workforce 
 experts can help you and their services are free!  There may be financial
  assistance available for summer intern positions.   
ATTACH;FMTTYPE=image/jpeg:https://www.westcusterlibrary.org/wp-content/upl
 oads/2024/12/65d9e869-75c5-4297-ad3c-1858a07423d4.png
CATEGORIES:Adults,High School Students,Veterans
LOCATION:West Custer County Library Community Room\, 209 Main St\, Westclif
 fe\, CO\, United States
GEO:38.136419;-105.467999
X-APPLE-STRUCTURED-LOCATION;VALUE=URI;X-ADDRESS=209 Main St\, Westcliffe\, 
 CO\, United States;X-APPLE-RADIUS=100;X-TITLE=West Custer County Library C
 ommunity Room:geo:38.136419,-105.467999
END:VEVENT
BEGIN:VTIMEZONE
TZID:America/Denver
X-LIC-LOCATION:America/Denver
BEGIN:STANDARD
DTSTART:20241103T010000
TZOFFSETFROM:-0600
TZOFFSETTO:-0700
TZNAME:MST
END:STANDARD
END:VTIMEZONE
END:VCALENDAR