BEGIN:VCALENDAR
VERSION:2.0
PRODID:-//wp-events-plugin.com//7.2.3.1//EN
TZID:America/Denver
X-WR-TIMEZONE:America/Denver
BEGIN:VEVENT
UID:2103@westcusterlibrary.org
DTSTART;TZID=America/Denver:20250514T070000
DTEND;TZID=America/Denver:20250531T200000
DTSTAMP:20250514T211656Z
URL:https://www.westcusterlibrary.org/events/celebrating-poetry-month-than
 k-you/
SUMMARY:CELEBRATING POETRY MONTH THANK YOU
DESCRIPTION:Thank you to all who participated in the Library's Poetry Conte
 st.  The staff was excited to receive 28 poetry submissions.  Steve Andr
 ews was the Adult Winner for the poem "Medic's Lament."  The Youth Winner
  was Leif Johnson for the poem "Cats."  Interested poets had their poems 
 submitted to KLZR for recording to ultimately play the poems on air for th
 e listening community.  KLZR will be in touch with these aspiring poets.
   We'd like to send a special shout out to Ms. Kristi Giste-Barne's stude
 nts for all their wonderful poetry submissions.  We hope to see you all a
 gain next April!
ATTACH;FMTTYPE=image/jpeg:https://www.westcusterlibrary.org/wp-content/upl
 oads/2025/05/6669d8b1-d802-40cd-8f8c-b6a3e5ed12eb.png
CATEGORIES:Adults,Age 9-14,High School Students,Kids (ages 5-10)
LOCATION:West Custer Library\, 209 Main Street\, Westcliffe\, Colorado\, Un
 ited States
GEO:38.136182;-105.468042
X-APPLE-STRUCTURED-LOCATION;VALUE=URI;X-ADDRESS=209 Main Street\, Westcliff
 e\, Colorado\, United States;X-APPLE-RADIUS=100;X-TITLE=West Custer Librar
 y:geo:38.136182,-105.468042
END:VEVENT
BEGIN:VTIMEZONE
TZID:America/Denver
X-LIC-LOCATION:America/Denver
BEGIN:DAYLIGHT
DTSTART:20250309T030000
TZOFFSETFROM:-0700
TZOFFSETTO:-0600
TZNAME:MDT
END:DAYLIGHT
END:VTIMEZONE
END:VCALENDAR