BEGIN:VCALENDAR
VERSION:2.0
PRODID:-//wp-events-plugin.com//7.2.3.1//EN
TZID:America/Denver
X-WR-TIMEZONE:America/Denver
BEGIN:VEVENT
UID:2216@westcusterlibrary.org
DTSTART;TZID=America/Denver:20250825T130000
DTEND;TZID=America/Denver:20250825T150000
DTSTAMP:20250819T201128Z
URL:https://www.westcusterlibrary.org/events/caretaker-meetup/
SUMMARY:CAREGIVER MEETUP
DESCRIPTION:\nThe caregiver meetup is an informal gathering of individuals 
 who are providing care for a loved one.  These meetups offer a supportive
  environment where caregivers can connect with others\, and share experien
 ces over a cup of coffee. They are a valuable way to combat isolation and 
 find encouragement during the challenges of caregiving.  Starting in Sept
 ember the meetup will take place the 1st and 3rd Monday of the month from 
 1 p.m. to 3 p.m.  Check with the group to see if there will be a meetup o
 n Labor Day\,
ATTACH;FMTTYPE=image/jpeg:https://www.westcusterlibrary.org/wp-content/upl
 oads/2025/08/d0c803db-b4ff-4214-8ac8-69c90cb139bc.png
CATEGORIES:Adults
LOCATION:West Custer County Library Community Room\, 209 Main St\, Westclif
 fe\, CO\, United States
GEO:38.136419;-105.467999
X-APPLE-STRUCTURED-LOCATION;VALUE=URI;X-ADDRESS=209 Main St\, Westcliffe\, 
 CO\, United States;X-APPLE-RADIUS=100;X-TITLE=West Custer County Library C
 ommunity Room:geo:38.136419,-105.467999
END:VEVENT
BEGIN:VTIMEZONE
TZID:America/Denver
X-LIC-LOCATION:America/Denver
BEGIN:DAYLIGHT
DTSTART:20250309T030000
TZOFFSETFROM:-0700
TZOFFSETTO:-0600
TZNAME:MDT
END:DAYLIGHT
END:VTIMEZONE
END:VCALENDAR