BEGIN:VCALENDAR
VERSION:2.0
PRODID:-//wp-events-plugin.com//7.2.3.1//EN
TZID:America/Denver
X-WR-TIMEZONE:America/Denver
BEGIN:VEVENT
UID:1991@westcusterlibrary.org
DTSTART;TZID=America/Denver:20250326T150000
DTEND;TZID=America/Denver:20250326T170000
DTSTAMP:20250320T162616Z
URL:https://www.westcusterlibrary.org/events/build-a-bot/
SUMMARY:BUILD-A-BOT
DESCRIPTION:Join us for a program that is all about robotics. This event wi
 ll be a team event\, where kids get to build a robot from a kit and progra
 m it to do certain commands.\n\nHope to see you there.\n\n
ATTACH;FMTTYPE=image/jpeg:https://www.westcusterlibrary.org/wp-content/upl
 oads/2025/03/roboticsupdate.png
CATEGORIES:Age 9-14
LOCATION:West Custer County Library Community Room\, 209 Main St\, Westclif
 fe\, CO\, United States
GEO:38.136419;-105.467999
X-APPLE-STRUCTURED-LOCATION;VALUE=URI;X-ADDRESS=209 Main St\, Westcliffe\, 
 CO\, United States;X-APPLE-RADIUS=100;X-TITLE=West Custer County Library C
 ommunity Room:geo:38.136419,-105.467999
END:VEVENT
BEGIN:VTIMEZONE
TZID:America/Denver
X-LIC-LOCATION:America/Denver
BEGIN:DAYLIGHT
DTSTART:20250309T030000
TZOFFSETFROM:-0700
TZOFFSETTO:-0600
TZNAME:MDT
END:DAYLIGHT
END:VTIMEZONE
END:VCALENDAR