BEGIN:VCALENDAR
VERSION:2.0
PRODID:-//wp-events-plugin.com//7.2.3.1//EN
TZID:America/Denver
X-WR-TIMEZONE:America/Denver
BEGIN:VEVENT
UID:2560@westcusterlibrary.org
DTSTART;TZID=America/Denver:20251014T130000
DTEND;TZID=America/Denver:20251014T143000
DTSTAMP:20250930T183807Z
URL:https://www.westcusterlibrary.org/events/beginner-american-sign-langua
 ge-group-continued/
SUMMARY:Beginner American Sign Language Group Continued
DESCRIPTION:The Beginner American Sign Language Group is back!  In this se
 ssion participants will continue to work on fingerspelling and basic signs
 .  Attendees are encouraged to bring a list of words they are interested 
 in learning how to sign.  The class is free and open to all. 
ATTACH;FMTTYPE=image/jpeg:https://www.westcusterlibrary.org/wp-content/upl
 oads/2025/09/62f77e67-6c9c-4d17-b006-d26c218f6cfb.png
CATEGORIES:Adults
LOCATION:West Custer County Library Community Room\, 209 Main St\, Westclif
 fe\, CO\, United States
GEO:38.136419;-105.467999
X-APPLE-STRUCTURED-LOCATION;VALUE=URI;X-ADDRESS=209 Main St\, Westcliffe\, 
 CO\, United States;X-APPLE-RADIUS=100;X-TITLE=West Custer County Library C
 ommunity Room:geo:38.136419,-105.467999
END:VEVENT
BEGIN:VTIMEZONE
TZID:America/Denver
X-LIC-LOCATION:America/Denver
BEGIN:DAYLIGHT
DTSTART:20250309T030000
TZOFFSETFROM:-0700
TZOFFSETTO:-0600
TZNAME:MDT
END:DAYLIGHT
END:VTIMEZONE
END:VCALENDAR