BEGIN:VCALENDAR
VERSION:2.0
PRODID:-//wp-events-plugin.com//7.2.3.1//EN
TZID:America/Denver
X-WR-TIMEZONE:America/Denver
BEGIN:VEVENT
UID:2119@westcusterlibrary.org
DTSTART;TZID=America/Denver:20250731T100000
DTEND;TZID=America/Denver:20250731T120000
DTSTAMP:20250708T214347Z
URL:https://www.westcusterlibrary.org/events/astro-camp-session-3/
SUMMARY:Astro Camp Session 3
DESCRIPTION:Astro Camp session 3 Earth Sciences: LAND\, AIR\, &amp\; WATER\
 n\nJoin us for an IMPACTFUL exploration of Earth's rocks\, water\, and air
 . Kids will explore how rocks are formed\, how water run-off on mountains 
 impacts the earth\, and finally how tornados are formed.\n\nMeet at School
  MPR room!!\n\nJoin Geologist Gary Zeigler for a Q&amp\;A and see his amaz
 ing rock collection.\n\nSnacks &amp\; Drinks provided!\n\nNo registration 
 required! For ages 5-18 yrs old.
ATTACH;FMTTYPE=image/jpeg:https://www.westcusterlibrary.org/wp-content/upl
 oads/2025/06/astrocampsessions2.png
CATEGORIES:Age 9-14,Family,High School Students,Kids (ages 5-10),Kids
 (ages 6-16),Teens (ages 11-18),Teens (ages 13-18)
END:VEVENT
BEGIN:VTIMEZONE
TZID:America/Denver
X-LIC-LOCATION:America/Denver
BEGIN:DAYLIGHT
DTSTART:20250309T030000
TZOFFSETFROM:-0700
TZOFFSETTO:-0600
TZNAME:MDT
END:DAYLIGHT
END:VTIMEZONE
END:VCALENDAR