BEGIN:VCALENDAR
VERSION:2.0
PRODID:-//wp-events-plugin.com//7.2.3.1//EN
TZID:America/Denver
X-WR-TIMEZONE:America/Denver
BEGIN:VEVENT
UID:2118@westcusterlibrary.org
DTSTART;TZID=America/Denver:20250724T100000
DTEND;TZID=America/Denver:20250724T120000
DTSTAMP:20250708T213913Z
URL:https://www.westcusterlibrary.org/events/astro-camp-session-2/
SUMMARY:Astro Camp Session 2
DESCRIPTION:Astro Camp session 2 Planetary Sciences: PLANETS\, STARS\, &amp
 \; GALAXIES\n\nCome for an OUT OF THIS WORLD exploration and learn about n
 ebulas\, and how meteors impact the moon.\n\nMeet @ Cliff Lanes Banquet Ro
 om\n\nFIELD TRIP TO THE SMOKEY JACK OBSERVATORY!\n\nSnacks &amp\; Drinks p
 rovided!!\n\nNo registration required! Free for ages 5-18 yrs old.
ATTACH;FMTTYPE=image/jpeg:https://www.westcusterlibrary.org/wp-content/upl
 oads/2025/06/astrocampsessions2.png
CATEGORIES:Age 9-14,Family,High School Students,Infant to Pre-K (ages
 0-5),Kids (ages 5-10),Kids (ages 6-16),Teens (ages 11-18),Teens (ages
 13-18)
END:VEVENT
BEGIN:VTIMEZONE
TZID:America/Denver
X-LIC-LOCATION:America/Denver
BEGIN:DAYLIGHT
DTSTART:20250309T030000
TZOFFSETFROM:-0700
TZOFFSETTO:-0600
TZNAME:MDT
END:DAYLIGHT
END:VTIMEZONE
END:VCALENDAR