BEGIN:VCALENDAR
VERSION:2.0
PRODID:-//wp-events-plugin.com//7.2.3.1//EN
TZID:America/Denver
X-WR-TIMEZONE:America/Denver
BEGIN:VEVENT
UID:2117@westcusterlibrary.org
DTSTART;TZID=America/Denver:20250717T100000
DTEND;TZID=America/Denver:20250717T120000
DTSTAMP:20250708T212955Z
URL:https://www.westcusterlibrary.org/events/astro-camp-session-1/
SUMMARY:ASTRO CAMP: SESSION 1
DESCRIPTION:Astro Camp Session 1: Aeronautics: ROCKETS &amp\; AIRPLANES\n\n
 Join us for a BLAST of a time. Come and learn about rockets and airplane's
 .\n\nMeet @ the School MPR room.\n\nAlso\, meet J.C. Nandin\, a retired NA
 SA engineer for Q&amp\;A.\n\nSnacks &amp\; drinks provided!!\n\nNo registr
 ation is required to attend. Ages 5-18 welcome!\n\n&nbsp\;
ATTACH;FMTTYPE=image/jpeg:https://www.westcusterlibrary.org/wp-content/upl
 oads/2025/06/astrocampsessions2.png
CATEGORIES:Age 9-14,Family,High School Students,Kids (ages 5-10),Kids
 (ages 6-16),Teens (ages 11-18),Teens (ages 13-18)
END:VEVENT
BEGIN:VTIMEZONE
TZID:America/Denver
X-LIC-LOCATION:America/Denver
BEGIN:DAYLIGHT
DTSTART:20250309T030000
TZOFFSETFROM:-0700
TZOFFSETTO:-0600
TZNAME:MDT
END:DAYLIGHT
END:VTIMEZONE
END:VCALENDAR