BEGIN:VCALENDAR
VERSION:2.0
PRODID:-//wp-events-plugin.com//7.2.3.1//EN
TZID:America/Denver
X-WR-TIMEZONE:America/Denver
BEGIN:VEVENT
UID:2060@westcusterlibrary.org
DTSTART;TZID=America/Denver:20250423T130000
DTEND;TZID=America/Denver:20250423T140000
DTSTAMP:20250402T184626Z
URL:https://www.westcusterlibrary.org/events/alzheimers-association-virtua
 l-series-healthy-living-for-your-brain-and-body/
SUMMARY:Alzheimer's Association Virtual Series Healthy Living for your Brai
 n and Body
DESCRIPTION:Join the Alzheimer's Association for a virtual educational clas
 s on Healthy Living for your Brain and Body.  In this workshop learn abou
 t research in the areas of diet\, nutrition\, exercise\, cognitive activit
 y and social engagement\, and use hands-on tools to help you incorporate t
 hese recommendations into a plan for healthy aging. Interested attendees r
 egister with the Alzheimer's Association at: http://bit.ly/4gTFcoj or call
  1-800-272-3900.
ATTACH;FMTTYPE=image/jpeg:https://www.westcusterlibrary.org/wp-content/upl
 oads/2025/04/1150eff6-49fa-41bd-bf4f-f27327c705d0.png
CATEGORIES:Adults
END:VEVENT
BEGIN:VTIMEZONE
TZID:America/Denver
X-LIC-LOCATION:America/Denver
BEGIN:DAYLIGHT
DTSTART:20250309T030000
TZOFFSETFROM:-0700
TZOFFSETTO:-0600
TZNAME:MDT
END:DAYLIGHT
END:VTIMEZONE
END:VCALENDAR