BEGIN:VCALENDAR
VERSION:2.0
PRODID:-//wp-events-plugin.com//7.2.3.1//EN
TZID:America/Denver
X-WR-TIMEZONE:America/Denver
BEGIN:VEVENT
UID:2058@westcusterlibrary.org
DTSTART;TZID=America/Denver:20250409T130000
DTEND;TZID=America/Denver:20250409T140000
DTSTAMP:20250402T175115Z
URL:https://www.westcusterlibrary.org/events/alzheimers-association-virtua
 l-series-10-warnings-signs/
SUMMARY:Alzheimer's Association Virtual Series 10 Warnings Signs
DESCRIPTION:Join the Alzheimer's Association for a virtual educational clas
 s on the 10 Warning Signs of the disease\, and how to approach someone abo
 ut memory concerns.  Information on possible tests\, assessments\, and re
 sources will be shared.  Interested attendees register with the Alzheimer
 's Association at: http://bit.ly/4gTFcoj or call 1-800-272-3900.
ATTACH;FMTTYPE=image/jpeg:https://www.westcusterlibrary.org/wp-content/upl
 oads/2025/04/1150eff6-49fa-41bd-bf4f-f27327c705d0.png
CATEGORIES:Adults
END:VEVENT
BEGIN:VTIMEZONE
TZID:America/Denver
X-LIC-LOCATION:America/Denver
BEGIN:DAYLIGHT
DTSTART:20250309T030000
TZOFFSETFROM:-0700
TZOFFSETTO:-0600
TZNAME:MDT
END:DAYLIGHT
END:VTIMEZONE
END:VCALENDAR