BEGIN:VCALENDAR
VERSION:2.0
PRODID:-//wp-events-plugin.com//7.2.3.1//EN
TZID:America/Denver
X-WR-TIMEZONE:America/Denver
BEGIN:VEVENT
UID:2097@westcusterlibrary.org
DTSTART;TZID=America/Denver:20250626T163000
DTEND;TZID=America/Denver:20250626T173000
DTSTAMP:20250513T225405Z
URL:https://www.westcusterlibrary.org/events/afton-rorvik-talks-about-the-
 1896-leadville-ice-palace-free-snacks-book-giveaways/
SUMMARY:Afton Rorvik Talks About the 1896 Leadville Ice Palace Free Snacks 
 & Book Giveaways!
DESCRIPTION:In November 1895\, city leaders in Leadville\, Colorado\, decid
 ed to build the biggest and best ice palace the world had ever seen. Less 
 than two months later\, the Leadville Ice Palace welcomed visitors from ar
 ound Colorado and the world. For three months\, everyone celebrated Leadvi
 lle’s Crystal Carnival with ice skating\, hockey games\, dancing\, music
 al concerts\, toboggan rides\, and contests of all kinds. This is a glimps
 e back to 1896\, when the town of Leadville came alive to celebrate with t
 he world.\n\nAfton Rorvik is a Colorado native. She first went to Leadvill
 e as a teenager and spent her allowance money to buy books about Leadville
  history. She is still reading about Leadville. Afton has published two no
 n-fiction books for adults\, and she has worked as an editor. She loves to
  walk and hike in the Colorado sunshine. And she and her husband love to h
 ost family and friends around their table.
ATTACH;FMTTYPE=image/jpeg:https://www.westcusterlibrary.org/wp-content/upl
 oads/2025/05/3931dcf4-3a15-44d8-ad6e-b996e77aba09.png
CATEGORIES:Adults
LOCATION:West Custer County Library Community Room\, 209 Main St\, Westclif
 fe\, CO\, United States
GEO:38.136419;-105.467999
X-APPLE-STRUCTURED-LOCATION;VALUE=URI;X-ADDRESS=209 Main St\, Westcliffe\, 
 CO\, United States;X-APPLE-RADIUS=100;X-TITLE=West Custer County Library C
 ommunity Room:geo:38.136419,-105.467999
END:VEVENT
BEGIN:VTIMEZONE
TZID:America/Denver
X-LIC-LOCATION:America/Denver
BEGIN:DAYLIGHT
DTSTART:20250309T030000
TZOFFSETFROM:-0700
TZOFFSETTO:-0600
TZNAME:MDT
END:DAYLIGHT
END:VTIMEZONE
END:VCALENDAR