BEGIN:VCALENDAR
VERSION:2.0
PRODID:-//wp-events-plugin.com//7.2.3.1//EN
TZID:America/Denver
X-WR-TIMEZONE:America/Denver
BEGIN:VEVENT
UID:2254@westcusterlibrary.org
DTSTART;TZID=America/Denver:20251113T161500
DTEND;TZID=America/Denver:20251113T180000
DTSTAMP:20250911T224832Z
URL:https://www.westcusterlibrary.org/events/adventure-quest-club-2025-11-
 13/
SUMMARY:ADVENTURE QUEST CLUB
DESCRIPTION:Join Mike Jones for a great gaming experience that focuses on R
 PG (Role Playing Games) and high strategy board games.\n\nNo prior gaming 
 knowledge needed. Come as you are!\n\nFREE SNACKS PROVIDED!!!
ATTACH;FMTTYPE=image/jpeg:https://www.westcusterlibrary.org/wp-content/upl
 oads/2025/08/AQCupdate.png
CATEGORIES:Age 9-14
LOCATION:West Custer County Library Community Room\, 209 Main St\, Westclif
 fe\, CO\, United States
GEO:38.136419;-105.467999
X-APPLE-STRUCTURED-LOCATION;VALUE=URI;X-ADDRESS=209 Main St\, Westcliffe\, 
 CO\, United States;X-APPLE-RADIUS=100;X-TITLE=West Custer County Library C
 ommunity Room:geo:38.136419,-105.467999
END:VEVENT
BEGIN:VTIMEZONE
TZID:America/Denver
X-LIC-LOCATION:America/Denver
BEGIN:STANDARD
DTSTART:20251102T010000
TZOFFSETFROM:-0600
TZOFFSETTO:-0700
TZNAME:MST
END:STANDARD
END:VTIMEZONE
END:VCALENDAR