BEGIN:VCALENDAR
VERSION:2.0
PRODID:-//wp-events-plugin.com//7.2.3.1//EN
TZID:America/Denver
X-WR-TIMEZONE:America/Denver
BEGIN:VEVENT
UID:1951@westcusterlibrary.org
DTSTART;TZID=America/Denver:20250325T120000
DTEND;TZID=America/Denver:20250325T130000
DTSTAMP:20250219T210908Z
URL:https://www.westcusterlibrary.org/events/a-brown-bag-lunch-event-with-
 the-co-responders-a-talk-on-cognitive-dissonance/
SUMMARY:"A Brown Bag Lunch Event with the Co-responders" A Talk on Cognitiv
 e Dissonance
DESCRIPTION:\nHave you ever felt a little dazed &amp\; confused?  It's pre
 tty common!  People generally like to have their beliefs and feelings lin
 ed up\, so when they don't match\, it can make us feel uneasy.  This tric
 ky feeling is called cognitive dissonance-it's what happens when we hold t
 wo different beliefs or values at the same time.  Bring a brown bag lunch
  and join us to learn more about Cognitive Dissonance.
ATTACH;FMTTYPE=image/jpeg:https://www.westcusterlibrary.org/wp-content/upl
 oads/2025/02/6a06b9ce-e1f3-449d-a5a6-3a590502243e.png
CATEGORIES:Adults
LOCATION:West Custer County Library Community Room\, 209 Main St\, Westclif
 fe\, CO\, United States
GEO:38.136419;-105.467999
X-APPLE-STRUCTURED-LOCATION;VALUE=URI;X-ADDRESS=209 Main St\, Westcliffe\, 
 CO\, United States;X-APPLE-RADIUS=100;X-TITLE=West Custer County Library C
 ommunity Room:geo:38.136419,-105.467999
END:VEVENT
BEGIN:VTIMEZONE
TZID:America/Denver
X-LIC-LOCATION:America/Denver
BEGIN:DAYLIGHT
DTSTART:20250309T030000
TZOFFSETFROM:-0700
TZOFFSETTO:-0600
TZNAME:MDT
END:DAYLIGHT
END:VTIMEZONE
END:VCALENDAR