BEGIN:VCALENDAR
VERSION:2.0
PRODID:-//wp-events-plugin.com//7.2.3.1//EN
TZID:America/Denver
X-WR-TIMEZONE:America/Denver
BEGIN:VEVENT
UID:2855@westcusterlibrary.org
DTSTART;TZID=America/Denver:20260313T100000
DTEND;TZID=America/Denver:20260313T123000
DTSTAMP:20260213T231551Z
URL:https://www.westcusterlibrary.org/events/4th-annual-celebration-of-pi-
 day/
SUMMARY:4th Annual Celebration of PI Day
DESCRIPTION:PI is a wondrous number\, infinitely changing. Pie is a wondrou
 s thing to eat. Join the Library's annual PI Day fundraiser to celebrate t
 he number PI and all kinds of infinitely changeable pie. Donate a pie to s
 upport the Library. Buy a slice to support the Library. Everyone is a winn
 er!\n\nDue to scheduling constraints\, the 4th Annual PI Day will be celeb
 rated a day early on Friday 3/13 rather than 3/14. All proceeds go to the 
 Library.
ATTACH;FMTTYPE=image/jpeg:https://www.westcusterlibrary.org/wp-content/upl
 oads/2026/02/PI-Day-3_13_26_page-0001.jpg
CATEGORIES:All Ages
END:VEVENT
BEGIN:VTIMEZONE
TZID:America/Denver
X-LIC-LOCATION:America/Denver
BEGIN:DAYLIGHT
DTSTART:20260308T030000
TZOFFSETFROM:-0700
TZOFFSETTO:-0600
TZNAME:MDT
END:DAYLIGHT
END:VTIMEZONE
END:VCALENDAR