BEGIN:VCALENDAR
VERSION:2.0
PRODID:-//wp-events-plugin.com//7.2.3.1//EN
TZID:America/Denver
X-WR-TIMEZONE:America/Denver
BEGIN:VEVENT
UID:1962@westcusterlibrary.org
DTSTART;TZID=America/Denver:20250314T100000
DTEND;TZID=America/Denver:20250314T100000
DTSTAMP:20250221T234605Z
URL:https://www.westcusterlibrary.org/events/3rd-annual-pi-day-celebration
 /
SUMMARY:3rd Annual Pi Day Celebration!
DESCRIPTION:Join us for our 3rd annual Pi Day celebration! Bring a pie (hom
 emade or store-bought) to the library to donate on March 13th or 14th\, an
 d/or come buy a slice on March 14th to support your local library! Pie sal
 es begin at 10 AM and will continue until we're sold out. ALL funds raised
  will go towards purchasing new items for checkout for our Library of Thin
 gs.
ATTACH;FMTTYPE=image/jpeg:https://www.westcusterlibrary.org/wp-content/upl
 oads/2025/02/PiDayFlyer.png
CATEGORIES:Adults,Family
LOCATION:West Custer County Library Community Room\, 209 Main St\, Westclif
 fe\, CO\, United States
GEO:38.136419;-105.467999
X-APPLE-STRUCTURED-LOCATION;VALUE=URI;X-ADDRESS=209 Main St\, Westcliffe\, 
 CO\, United States;X-APPLE-RADIUS=100;X-TITLE=West Custer County Library C
 ommunity Room:geo:38.136419,-105.467999
END:VEVENT
BEGIN:VTIMEZONE
TZID:America/Denver
X-LIC-LOCATION:America/Denver
BEGIN:DAYLIGHT
DTSTART:20250309T030000
TZOFFSETFROM:-0700
TZOFFSETTO:-0600
TZNAME:MDT
END:DAYLIGHT
END:VTIMEZONE
END:VCALENDAR