BEGIN:VCALENDAR
VERSION:2.0
PRODID:-//wp-events-plugin.com//7.2.3.1//EN
TZID:America/Denver
X-WR-TIMEZONE:America/Denver
BEGIN:VEVENT
UID:1957@westcusterlibrary.org
DTSTART;TZID=America/Denver:20250401T100000
DTEND;TZID=America/Denver:20250430T173000
DTSTAMP:20250219T224413Z
URL:https://www.westcusterlibrary.org/events/2025-poetry-contest-sponsored
 -by-the-west-custer-county-library-klzr/
SUMMARY:2025 Poetry Contest Sponsored by the West Custer County Library & K
 LZR
DESCRIPTION:The West Custer County Library in partnership with Radio Statio
 n KLZR are co-sponsoring a poetry contest beginning April 1st and ending A
 pril 30th at 5:30 p.m.  Poets of all ages are welcome to submit an origin
 al poem.  All completed work must be submitted by April 30th.  Poetry co
 ntestants will be divided into three categories: adults\, teens\, and yout
 h.  Submissions will be judged by library staff\, and the three winners w
 ill be notified in early May.  A gift certificate will be awarded to one 
 adult\, one teenager\, and one youth respectively.\n\nAll submissions must
  include your name and contact information along with a check mark to indi
 cate if you are a youth\, teen or adult (see below). Download this form\, 
 complete it and return it to cathy@westcusterlibrary.org by email.  \n\nh
 ttps://docs.google.com/document/d/1snQ8U23FFQT22KBIC551Yvv3b98M62Bqz5g6Af_
 OS04/edit?usp=drive_link\n\n&nbsp\;\n\n&nbsp\;
ATTACH;FMTTYPE=image/jpeg:https://www.westcusterlibrary.org/wp-content/upl
 oads/2025/02/9ee2dab1-bf8d-4583-be88-e33f3d510322.png
CATEGORIES:Adults,Age 9-14,Kids (ages 5-10),Teens (ages 11-18)
LOCATION:West Custer Library\, 209 Main Street\, Westcliffe\, Colorado\, Un
 ited States
GEO:38.136182;-105.468042
X-APPLE-STRUCTURED-LOCATION;VALUE=URI;X-ADDRESS=209 Main Street\, Westcliff
 e\, Colorado\, United States;X-APPLE-RADIUS=100;X-TITLE=West Custer Librar
 y:geo:38.136182,-105.468042
END:VEVENT
BEGIN:VTIMEZONE
TZID:America/Denver
X-LIC-LOCATION:America/Denver
BEGIN:DAYLIGHT
DTSTART:20250309T030000
TZOFFSETFROM:-0700
TZOFFSETTO:-0600
TZNAME:MDT
END:DAYLIGHT
END:VTIMEZONE
END:VCALENDAR